BEGIN:VCALENDAR
VERSION:2.0
PRODID:-//eventon.com NONSGML v1.0//EN
CALSCALE:GREGORIAN
METHOD:PUBLISH
BEGIN:VEVENT
UID:69e9e48eab3ac
DTSTAMP:20260423T092118Z
DTSTART:20260114T150000Z
DTEND:20290211T220000Z
LOCATION:Musée Pop 200\,  rue Laviolette\,  Trois-Rivières (Québec) G9A 6L5
SUMMARY:Attache ta tuque! Une virée décoiffante dans la culture québécoise
DESCRIPTION:Une exposition sur la culture populaire québécoise dont les t
 hématiques de l’exposition ont été choisies selon un sondage réalisé
  en 2018\,  en partenariat avec la firme Léger\,  auprès de 1000 Québéc
 ois. Ce sont les sujets les plus populaires et ceux qui représentent le pl
 us l’unicité des Québécois\,  selon le sondage\, [..]\nhttps://mnj.que
 bec/events/attache-ta-tuque-une-viree-decoiffante-dans-la-culture-quebecois
 e/
URL:https://mnj.quebec/events/attache-ta-tuque-une-viree-decoiffante-dans-la-culture-quebecoise/
END:VEVENT
END:VCALENDAR