BEGIN:VCALENDAR
VERSION:2.0
PRODID:-//eventon.com NONSGML v1.0//EN
CALSCALE:GREGORIAN
METHOD:PUBLISH
BEGIN:VEVENT
UID:69e9e49eeb7fc
DTSTAMP:20260423T092134Z
DTSTART:20251009T130000Z
DTEND:20260621T210000Z
LOCATION:Planétarium : 4801\,  avenue Pierre-De Coubertin\,  Montréal\,  QC Canada H1V 3V4 Planétarium : 4801\,  avenue Pierre-De Coubertin\,  Montréal\,  QC Canada H1V 3V4
SUMMARY:Les frontières de l'infini
DESCRIPTION:L&rsquo;oeuvre «Les frontières de l’infini» explore la mys
 térieuse quête de la connaissance humaine. Pour comprendre l’infini du 
 cosmos\,  il faut aussi comprendre l’outil le plus précieux\,  fondement
  de toute exploration : notre cerveau. Ce film immersif\,  à la fois instr
 uctif et poétique\,  relie l’exploration spatiale à la neuroscience en 
 allant[..]\nhttps://mnj.quebec/events/les-frontieres-de-linfini/
URL:https://mnj.quebec/events/les-frontieres-de-linfini/
END:VEVENT
END:VCALENDAR