BEGIN:VCALENDAR
VERSION:2.0
PRODID:-//eventon.com NONSGML v1.0//EN
CALSCALE:GREGORIAN
METHOD:PUBLISH
BEGIN:VEVENT
UID:69e9e48eab774
DTSTAMP:20260423T092118Z
DTSTART:20250915T130000Z
DTEND:20260908T210000Z
LOCATION:Musée de la santé Armand-Frappier 2150\,  autoroute des Laurentides Laval (Québec) H7T 2T8
SUMMARY:Bouger!
DESCRIPTION:L’exposition Bouger!\,  présentée dès septembre 2025 au Mu
 sée de la santé Armand-Frappier\,  vous invite à plonger dans une expér
 ience interactive qui met en lumière les nombreux bienfaits de l’activit
 é physique sur notre santé\,  autant physique que mentale. Type de conten
 u : ExpositionQuand : Du 15 septembre 2025 au 8 septembre[..]\nhttps://mnj.
 quebec/events/bouger/
URL:https://mnj.quebec/events/bouger/
END:VEVENT
END:VCALENDAR