BEGIN:VCALENDAR
VERSION:2.0
PRODID:-//eventon.com NONSGML v1.0//EN
CALSCALE:GREGORIAN
METHOD:PUBLISH
BEGIN:VEVENT
UID:69e9e49eebaa4
DTSTAMP:20260423T092134Z
DTSTART:20251118T140000Z
DTEND:20260424T210000Z
LOCATION:Biosphère 160\,  chemin Tour-de-l'Isle\,  Île Sainte-Hélène\,  Montréal\,  QC Canada\,  H3C 4G8
SUMMARY:Émolab
DESCRIPTION:À la Biosphère de Montréal\,  l’exposition Émolab vous 
 invite à explorer la science des émotions liées au climat. Destiné aux 
 jeunes et aux familles\,  ce laboratoire aide à comprendre les réactions 
 émotionnelles suscitées par les changements climatiques et à mieux les a
 pprivoiser. Type de contenu : ExpositionQuand : 18 novembre 2025 au[..]\nht
 tps://mnj.quebec/events/emolab/
URL:https://mnj.quebec/events/emolab/
END:VEVENT
END:VCALENDAR