BEGIN:VCALENDAR
VERSION:2.0
PRODID:-//eventon.com NONSGML v1.0//EN
CALSCALE:GREGORIAN
METHOD:PUBLISH
BEGIN:VEVENT
UID:69e9e4791c72a
DTSTAMP:20260423T092057Z
DTSTART:20251016T160000Z
DTEND:20260831T160000Z
LOCATION:Rue Ontario Est entre les rues Saint-Hubert et Lespérance Montréal (Québec) H2K 1V2
SUMMARY:Regarde! 2025-2026
DESCRIPTION:L’exposition annuelle en arts visuels Regarde! sur la rue Ont
 ario Est vous propose de contempler 41 œuvres installées à différents e
 ndroits dans le Quartier culturel des Faubourgs. Le parcours d’arts visue
 ls se déploie sur la rue Ontario Est\,  entre les rues Saint-Hubert et Les
 pérance\,  sur des structures sur les trottoirs\, [..]\nhttps://mnj.quebec
 /events/regarde-2025-2026/
URL:https://mnj.quebec/events/regarde-2025-2026/
END:VEVENT
END:VCALENDAR