BEGIN:VCALENDAR
VERSION:2.0
PRODID:-//eventon.com NONSGML v1.0//EN
CALSCALE:GREGORIAN
METHOD:PUBLISH
BEGIN:VEVENT
UID:69eb5b9a6a380
DTSTAMP:20260424T120130Z
DTSTART:20250101T140000Z
DTEND:20251231T220000Z
LOCATION:Escaparium Saguenay Talbot 1799 Bd Talbot\,  Saguenay\,  QC G7H 7Y4
SUMMARY:Oz
DESCRIPTION:Depuis quelques temps\,  les tornades sont de plus en plus fré
 quentes\,  et vous avez également remarqué que plusieurs villageois dispa
 raissent mystérieusement. Certains réapparaissent\,  ils ont tous 2 chose
 s en commun : une euphorie débordante et une étincelante paire de soulier
 s rouges.Toute cette folie ne vous affectait pas réellement\,  jusqu’au 
 jour[..]\nhttps://mnj.quebec/events/oz/
URL:https://mnj.quebec/events/oz/
END:VEVENT
END:VCALENDAR