BEGIN:VCALENDAR
VERSION:2.0
PRODID:-//eventon.com NONSGML v1.0//EN
CALSCALE:GREGORIAN
METHOD:PUBLISH
BEGIN:VEVENT
UID:69e8505a45c41
DTSTAMP:20260422T043642Z
DTSTART:20250101T140000Z
DTEND:20251231T220000Z
LOCATION:Escaparium Saguenay Racine 371 Rue Racine Est Saguenay\,  QuÃ©bec\,  Canada G7H 1S8
SUMMARY:La Coupe de la Vie Ã‰ternelle
DESCRIPTION:Lorsque votre Ã©quipe et vous partez Ã  la recherche de votre a
 mi au coeur de la jungle pÃ©ruvienne\,  vous faites l&rsquo;erreur de foule
 r des terres sacrÃ©es. InstantanÃ©ment\,  vous Ãªtes alors infectÃ©s d&rsqu
 o;un sortilÃ¨ge mortel. Votre seule chance de vous en sortir est de rÃ©cupÃ
 ©rer la coupe de la vie Ã©ternelle[..]\nhttps://mnj.quebec/events/la-coupe-
 de-la-vie-eternelle/
URL:https://mnj.quebec/events/la-coupe-de-la-vie-eternelle/
END:VEVENT
END:VCALENDAR