BEGIN:VCALENDAR
VERSION:2.0
PRODID:-//eventon.com NONSGML v1.0//EN
CALSCALE:GREGORIAN
METHOD:PUBLISH
BEGIN:VEVENT
UID:69ebd380eb373
DTSTAMP:20260424T203304Z
DTSTART:20250204T190000Z
DTEND:20250204T200000Z
LOCATION:
SUMMARY:Empreinte numérique: un héritage indélébile
DESCRIPTION:Dans cet atelier interactif\,  les jeunes découvriront l’imp
 act de leurs informations personnelles sur leur empreinte numérique et l&r
 squo;importance de la cybersécurité. À travers un exercice pratique d’
 OSINT (recherche d’informations publiques)\,  ils comprendront comment le
 urs activités en ligne peuvent influencer leur réputation et leur sécuri
 té informatique. Une exploration concrète pour apprendre[..]\nhttps://mnj
 .quebec/events/empreinte-numerique-un-heritage-indelebile/
URL:https://mnj.quebec/events/empreinte-numerique-un-heritage-indelebile/
END:VEVENT
END:VCALENDAR