BEGIN:VCALENDAR
VERSION:2.0
PRODID:-//eventon.com NONSGML v1.0//EN
CALSCALE:GREGORIAN
METHOD:PUBLISH
BEGIN:VEVENT
UID:69e4ee8f49340
DTSTAMP:20260419T150239Z
DTSTART:20250204T230000Z
DTEND:20250205T020000Z
LOCATION:Société des Arts Technologiques (SAT) 1201 Boul. Saint-Laurent\,  Montréal\,  QC H2X 2S6
SUMMARY:Rendez-vous en Tech
DESCRIPTION:Le Rendez-vous en Tech met en lumière le potentiel des partici
 pantes et leur permet un contact bienveillant avec des professionnel.le.s d
 e l’industrie. Avec cet événement nous souhaitons faire rayonner la rel
 ève et lui ouvrir des opportunités pour le futur en la mettant en contact
  avec des entreprises. Un appel à[..]\nhttps://mnj.quebec/events/rendez-vo
 us-en-tech/
URL:https://mnj.quebec/events/rendez-vous-en-tech/
END:VEVENT
END:VCALENDAR