BEGIN:VCALENDAR
VERSION:2.0
PRODID:-//eventon.com NONSGML v1.0//EN
CALSCALE:GREGORIAN
METHOD:PUBLISH
BEGIN:VEVENT
UID:69e9f947459ec
DTSTAMP:20260423T104943Z
DTSTART:20230201T181400Z
DTEND:20230226T181400Z
LOCATION:Productions Recto-Verso 541 Rue Saint-Vallier E\,  Québec\,  QC G1K 3P9
SUMMARY:Le Mois Multi
DESCRIPTION:Découverte | Grand public | Offert en françaisQuand : 1er au 
 26 février 2023Prix : GratuitLieu: 541 rue de Saint-Vallier Est\,  Quebec\
 ,  QC\,  Canada\,  Quebec Le Mois Multi est un festival d’expériences po
 ur un public curieux des nouvelles formes artistiques\,  dont le regard se 
 porte bien au-delà de la discipline.[..]\nhttps://mnj.quebec/events/le-moi
 s-multi/
URL:https://mnj.quebec/events/le-mois-multi/
END:VEVENT
END:VCALENDAR