BEGIN:VCALENDAR
VERSION:2.0
PRODID:-//eventon.com NONSGML v1.0//EN
CALSCALE:GREGORIAN
METHOD:PUBLISH
BEGIN:VEVENT
UID:69ea47181e294
DTSTAMP:20260423T162144Z
DTSTART:20221201T220000Z
DTEND:20231231T220000Z
LOCATION:Biosphère 160\,  chemin Tour-de-l'Isle\,  Île Sainte-Hélène\,  Montréal\,  QC Canada\,  H3C 4G8
SUMMARY:Écolab
DESCRIPTION:Expositions | Grand public | Offert en français et en anglaisQ
 uand : 01 décembre 2022 au 31 décembre 2023Prix : Variable Catégories Pr
 ix Enfants (5 à 17 ans) 11\, 50$ Étudiant 18+ (avec carte) 16\, 50$ Adult
 e 22\, 75$ Laboratoire pour scientifiques en herbes Le tout nouvel Écolab 
 met en lumière l’importance de[..]\nhttps://mnj.quebec/events/ecolab/
URL:https://mnj.quebec/events/ecolab/
END:VEVENT
END:VCALENDAR