BEGIN:VCALENDAR
VERSION:2.0
PRODID:-//eventon.com NONSGML v1.0//EN
CALSCALE:GREGORIAN
METHOD:PUBLISH
BEGIN:VEVENT
UID:69e68e3b8f145
DTSTAMP:20260420T203611Z
DTSTART:20230222T213000Z
DTEND:20230301T233000Z
LOCATION:Bibliothèque de Brossard Georgette-Lepage 7855 Av. San Francisco\,  Brossard\,  QC J4X 2A4
SUMMARY:Photoshop et photomontage
DESCRIPTION:Atelier // Formation | Adolescents | Offert en françaisQuand :
  22 février au 01 mars 2023 // 16h30 &#8211; 18h30Prix : GratuitNombre de 
 place : 06 Fier collaborateur de Mois Numérique Jeunesse 2023 Tu as entre 
 12 et 17 ans et tu souhaites modifier et retoucher tes photos comme un[..]\
 nhttps://mnj.quebec/events/photoshop-et-photomontage/
URL:https://mnj.quebec/events/photoshop-et-photomontage/
END:VEVENT
END:VCALENDAR