BEGIN:VCALENDAR
VERSION:2.0
PRODID:-//eventon.com NONSGML v1.0//EN
CALSCALE:GREGORIAN
METHOD:PUBLISH
BEGIN:VEVENT
UID:69e9e4c33ee97
DTSTAMP:20260423T092211Z
DTSTART:20240423T130000Z
DTEND:20260430T210000Z
LOCATION:Planétarium 4801\,  avenue Pierre-De Coubertin\,  Montréal\,  QC Canada H1V 3V4
SUMMARY:Rouge 2100 - une aventure martienne
DESCRIPTION:Cette exposition immersive vous transporte vers la planète rou
 ge\,  Mars\,  la quatrième planète à partir du Soleil. Imaginée par Cir
 que Éloize\,  l’expérience a été créée en collaboration avec le Pla
 nétarium et Farah Alibay\,  ingénieure en aérospatiale. Cette exposition
  est un incontournable pour en savoir davantage sur l’exploration spatial
 e\,  les mystères[..]\nhttps://mnj.quebec/events/rouge-2100-une-aventure-m
 artienne/
URL:https://mnj.quebec/events/rouge-2100-une-aventure-martienne/
END:VEVENT
END:VCALENDAR