BEGIN:VCALENDAR
VERSION:2.0
PRODID:-//eventon.com NONSGML v1.0//EN
CALSCALE:GREGORIAN
METHOD:PUBLISH
BEGIN:VEVENT
UID:69e9e47989a91
DTSTAMP:20260423T092057Z
DTSTART:20260228T143000Z
DTEND:20260419T210000Z
LOCATION:Manif d&#039;art 600\,  côte d’Abraham Québec (Québec) GIR IAI
SUMMARY:Manif d’art – La biennale de Québec
DESCRIPTION:Biennale majeure en art actuel sur la scène canadienne\,  Mani
 f d&rsquo;art &#8211; La biennale de Québec\,  est la seule biennale hiver
 nale en Amérique du Nord. Elle présente aux deux ans le travail de plus d
 e 100 artistes internationaux\,  nationaux et locaux. En plus des diverses 
 expositions (Espace Quatre Cents)\,  l’événement[..]\nhttps://mnj.quebe
 c/events/la-biennale-de-quebec/
URL:https://mnj.quebec/events/la-biennale-de-quebec/
END:VEVENT
END:VCALENDAR