BEGIN:VCALENDAR
VERSION:2.0
PRODID:-//eventon.com NONSGML v1.0//EN
CALSCALE:GREGORIAN
METHOD:PUBLISH
BEGIN:VEVENT
UID:69eb5b15252c6
DTSTAMP:20260424T115917Z
DTSTART:20250128T170000Z
DTEND:20250302T210000Z
LOCATION:Musée d&#039;art de Rouyn-Noranda (MA) 221 Av. du Musée\,  Rouyn-Noranda\,  QC J9X 4T5
SUMMARY:Panorama: The Tour of Quebec Works in Virtual Reality
DESCRIPTION:Panorama is a virtual reality tour project designed by Hubblo t
 o showcase a diverse collection of immersive Quebec works. Organized as a t
 emporary exhibition\,  this tour will take place at the MA from January 28 
 to March 2\,  with an official opening scheduled for Friday\,  January 31. 
 Panorama brings together[..]\nhttps://mnj.quebec/en/events/panorama-the-tou
 r-of-quebec-works-in-virtual-reality/
URL:https://mnj.quebec/en/events/panorama-the-tour-of-quebec-works-in-virtual-reality/
END:VEVENT
END:VCALENDAR