BEGIN:VCALENDAR
VERSION:2.0
PRODID:-//eventon.com NONSGML v1.0//EN
CALSCALE:GREGORIAN
METHOD:PUBLISH
BEGIN:VEVENT
UID:69e4ef93c4773
DTSTAMP:20260419T150659Z
DTSTART:20250101T140000Z
DTEND:20251231T220000Z
LOCATION:MontVR 733 rue Cathcart\,  Montréal
SUMMARY:VR Gaming Station
DESCRIPTION:The gaming stations are individual booths equipped with a virtu
 al reality headset and controllers. You can play dozens of games\,  even wi
 th your friends in other stations or online against millions of players. Th
 e essence of the MontVR experience. Content Type : ExperiencesWhen : From J
 anuary 1 to December 31Who[..]\nhttps://mnj.quebec/en/events/vr-gaming-stat
 ion/
URL:https://mnj.quebec/en/events/vr-gaming-station/
END:VEVENT
END:VCALENDAR