BEGIN:VCALENDAR
VERSION:2.0
PRODID:-//eventon.com NONSGML v1.0//EN
CALSCALE:GREGORIAN
METHOD:PUBLISH
BEGIN:VEVENT
UID:69e8ede34a3f7
DTSTAMP:20260422T154851Z
DTSTART:20241128T140000Z
DTEND:20250310T000000Z
LOCATION:
SUMMARY:Lumino\,  15th edition
DESCRIPTION:A Luminous programming in the heart of Montreal ! Light\,  crea
 tivity and nordicity come together for LUMINO\,  the must-see winter event 
 in Montreal\,  which returns in a renewed version after 15 years. From Nove
 mber to March\,  let yourself be seduced by an evolving and dazzling light 
 programming that warms up[..]\nhttps://mnj.quebec/en/events/lumino-15th-edi
 tion/
URL:https://mnj.quebec/en/events/lumino-15th-edition/
END:VEVENT
END:VCALENDAR