BEGIN:VCALENDAR
VERSION:2.0
PRODID:-//eventon.com NONSGML v1.0//EN
CALSCALE:GREGORIAN
METHOD:PUBLISH
BEGIN:VEVENT
UID:69e60f00e416c
DTSTAMP:20260420T113320Z
DTSTART:20230616T130000Z
DTEND:20250630T210000Z
LOCATION:COSMODÔME 2150\,  autoroute des Laurentides Laval QC H7T 2T8
SUMMARY:A New Moon Rises
DESCRIPTION:Exhibitions | General Public for all young people | Available i
 n English and FrenchWhen : Until June 30\,  2025Price : Payable Fifty yea
 rs after the Apollo Moon landings\,  get readry to see the Moon as you’ve
  never seen it before.A New Moon Rises\,  a traveling exhibition from the S
 mithsonian\,  features stunning large-scale[..]\nhttps://mnj.quebec/en/even
 ts/a-new-moon-rises/
URL:https://mnj.quebec/en/events/a-new-moon-rises/
END:VEVENT
END:VCALENDAR